BEGIN:VCALENDAR
VERSION:2.0
PRODID:SchoolNow
CALSCALE:GREGORIAN
BEGIN:VEVENT
UID:076d762c-56b9-11f0-b050-0a58a9feac02
DTSTAMP:20250716T160539Z
SUMMARY:West Lakeland WCD Board Meeting - July 2025
LOCATION:The Ruthvens\, located 41 Lake Morton Drive\, Lakeland\, Florida
URL;VALUE=URI:https://www.westlakelandwcd.org/calendar/8374862/west-lakelan
 d-wcd-board-meeting-july-2025
DTSTART:20250708T133000Z
DTEND:20250708T143000Z
ATTACH;FILENAME=2025-07-08 WLWCD  LO Agenda Package.pdf;FMTTYPE=application
 /pdf:https://campussuite-storage.s3.amazonaws.com/prod/1559131/f8fde5ac-f6
 fa-11ec-a236-0ed417a33657/2979220/7ece9940-5b81-11f0-8593-0273f81fc779/fil
 e/2025-07-08 WLWCD  LO Agenda Package.pdf
ATTACH;FILENAME=2025-07-08 -West Lakeland CDD - Final Agenda.pdf;FMTTYPE=ap
 plication/pdf:https://campussuite-storage.s3.amazonaws.com/prod/1559131/f8
 fde5ac-f6fa-11ec-a236-0ed417a33657/2979219/7ece65d8-5b81-11f0-82c0-0273f81
 fc779/file/2025-07-08 -West Lakeland CDD - Final Agenda.pdf
END:VEVENT
END:VCALENDAR
